BEGIN:VCALENDAR
VERSION:2.0
PRODID:-//GolfLoomis - ECPv6.15.20//NONSGML v1.0//EN
CALSCALE:GREGORIAN
METHOD:PUBLISH
X-WR-CALNAME:GolfLoomis
X-ORIGINAL-URL:https://golfloomis.com
X-WR-CALDESC:Events for GolfLoomis
REFRESH-INTERVAL;VALUE=DURATION:PT1H
X-Robots-Tag:noindex
X-PUBLISHED-TTL:PT1H
BEGIN:VTIMEZONE
TZID:America/Los_Angeles
BEGIN:DAYLIGHT
TZOFFSETFROM:-0800
TZOFFSETTO:-0700
TZNAME:PDT
DTSTART:20250309T100000
END:DAYLIGHT
BEGIN:STANDARD
TZOFFSETFROM:-0700
TZOFFSETTO:-0800
TZNAME:PST
DTSTART:20251102T090000
END:STANDARD
BEGIN:DAYLIGHT
TZOFFSETFROM:-0800
TZOFFSETTO:-0700
TZNAME:PDT
DTSTART:20260308T100000
END:DAYLIGHT
BEGIN:STANDARD
TZOFFSETFROM:-0700
TZOFFSETTO:-0800
TZNAME:PST
DTSTART:20261101T090000
END:STANDARD
BEGIN:DAYLIGHT
TZOFFSETFROM:-0800
TZOFFSETTO:-0700
TZNAME:PDT
DTSTART:20270314T100000
END:DAYLIGHT
BEGIN:STANDARD
TZOFFSETFROM:-0700
TZOFFSETTO:-0800
TZNAME:PST
DTSTART:20271107T090000
END:STANDARD
END:VTIMEZONE
BEGIN:VEVENT
DTSTART;VALUE=DATE:20260301
DTEND;VALUE=DATE:20260302
DTSTAMP:20260423T123033
CREATED:20260226T165227Z
LAST-MODIFIED:20260226T165227Z
UID:10238-1772323200-1772409599@golfloomis.com
SUMMARY:Sunday Skins Game
DESCRIPTION:Join us on the first Sunday of every month at Loomis Trail for our Sunday Skins Games!  Play any time of the day\, with anybody\, and compete in the cash buy in and cash pay out Skins Game! \nCall the pro shop for more details.
URL:https://golfloomis.com/event/sunday-skins-game/
END:VEVENT
BEGIN:VEVENT
DTSTART;VALUE=DATE:20260314
DTEND;VALUE=DATE:20260315
DTSTAMP:20260423T123033
CREATED:20250924T214114Z
LAST-MODIFIED:20250924T214426Z
UID:10036-1773446400-1773532799@golfloomis.com
SUMMARY:March Madness Scramble
DESCRIPTION:4-Person Teams\nScramble format where the course will be set up as difficult!\n \n10:30AM Shotgun Start.\n$80 Public / $40 Annual Pass Holder \nFees include GROSS and NET payout\, field prizes\, and a complimentary beer. \nPlease see the “Upcoming Tournaments” page for details.
URL:https://golfloomis.com/event/march-madness-scramble-2/
ATTACH;FMTTYPE=image/jpeg:https://golfloomis.com/wp-content/uploads/2025/09/2025WinterTournamentCalendar_Web.jpg
END:VEVENT
BEGIN:VEVENT
DTSTART;VALUE=DATE:20260324
DTEND;VALUE=DATE:20260327
DTSTAMP:20260423T123033
CREATED:20260129T222735Z
LAST-MODIFIED:20260129T222738Z
UID:10161-1774310400-1774569599@golfloomis.com
SUMMARY:Aerification
DESCRIPTION:The golf course and driving range will be closed all day the 24th through the 26th for aerification.
URL:https://golfloomis.com/event/aerification-7/
END:VEVENT
END:VCALENDAR