BEGIN:VCALENDAR
VERSION:2.0
PRODID:-//GolfLoomis - ECPv6.15.20//NONSGML v1.0//EN
CALSCALE:GREGORIAN
METHOD:PUBLISH
X-ORIGINAL-URL:https://golfloomis.com
X-WR-CALDESC:Events for GolfLoomis
REFRESH-INTERVAL;VALUE=DURATION:PT1H
X-Robots-Tag:noindex
X-PUBLISHED-TTL:PT1H
BEGIN:VTIMEZONE
TZID:America/Los_Angeles
BEGIN:DAYLIGHT
TZOFFSETFROM:-0800
TZOFFSETTO:-0700
TZNAME:PDT
DTSTART:20220313T100000
END:DAYLIGHT
BEGIN:STANDARD
TZOFFSETFROM:-0700
TZOFFSETTO:-0800
TZNAME:PST
DTSTART:20221106T090000
END:STANDARD
BEGIN:DAYLIGHT
TZOFFSETFROM:-0800
TZOFFSETTO:-0700
TZNAME:PDT
DTSTART:20230312T100000
END:DAYLIGHT
BEGIN:STANDARD
TZOFFSETFROM:-0700
TZOFFSETTO:-0800
TZNAME:PST
DTSTART:20231105T090000
END:STANDARD
BEGIN:DAYLIGHT
TZOFFSETFROM:-0800
TZOFFSETTO:-0700
TZNAME:PDT
DTSTART:20240310T100000
END:DAYLIGHT
BEGIN:STANDARD
TZOFFSETFROM:-0700
TZOFFSETTO:-0800
TZNAME:PST
DTSTART:20241103T090000
END:STANDARD
BEGIN:DAYLIGHT
TZOFFSETFROM:-0800
TZOFFSETTO:-0700
TZNAME:PDT
DTSTART:20250309T100000
END:DAYLIGHT
BEGIN:STANDARD
TZOFFSETFROM:-0700
TZOFFSETTO:-0800
TZNAME:PST
DTSTART:20251102T090000
END:STANDARD
END:VTIMEZONE
BEGIN:VEVENT
DTSTART;VALUE=DATE:20240712
DTEND;VALUE=DATE:20240713
DTSTAMP:20260423T164818
CREATED:20240217T183103Z
LAST-MODIFIED:20240217T183103Z
UID:9282-1720742400-1720828799@golfloomis.com
SUMMARY:Lynden Christian Shotgun
DESCRIPTION:Golf course will be closed all day.
URL:https://golfloomis.com/event/lynden-christian-shotgun/
END:VEVENT
BEGIN:VEVENT
DTSTART;VALUE=DATE:20240601
DTEND;VALUE=DATE:20240602
DTSTAMP:20260423T164818
CREATED:20240217T182852Z
LAST-MODIFIED:20240220T191655Z
UID:9279-1717200000-1717286399@golfloomis.com
SUMMARY:Blaine Scholarship Foundation
DESCRIPTION:The golf course will be closed all day for this event.
URL:https://golfloomis.com/event/blaine-scholarship-shotgun/
END:VEVENT
BEGIN:VEVENT
DTSTART;TZID=America/Los_Angeles:20240530T090000
DTEND;TZID=America/Los_Angeles:20240530T120000
DTSTAMP:20260423T164818
CREATED:20240217T182806Z
LAST-MODIFIED:20240217T182806Z
UID:9276-1717059600-1717070400@golfloomis.com
SUMMARY:Ladies Spring Fling Tournament
DESCRIPTION:The golf course will be closed from 7:30AM-7:50AM and again from 9AM until 11:50AM.  Course will be open from 12PM on.
URL:https://golfloomis.com/event/ladies-spring-fling-tournament/
END:VEVENT
BEGIN:VEVENT
DTSTART;TZID=America/Los_Angeles:20240523T063000
DTEND;TZID=America/Los_Angeles:20240524T140000
DTSTAMP:20260423T164818
CREATED:20240217T182453Z
LAST-MODIFIED:20240217T182453Z
UID:9273-1716445800-1716559200@golfloomis.com
SUMMARY:WSGA Four Ball
DESCRIPTION:Golf course will be closed until 2PM both days.
URL:https://golfloomis.com/event/wsga-four-ball/
END:VEVENT
BEGIN:VEVENT
DTSTART;TZID=America/Los_Angeles:20240522T120000
DTEND;TZID=America/Los_Angeles:20240522T200000
DTSTAMP:20260423T164818
CREATED:20240217T182351Z
LAST-MODIFIED:20240217T182351Z
UID:9270-1716379200-1716408000@golfloomis.com
SUMMARY:WSGA Four Ball Practice Rounds
DESCRIPTION:Course will be closed at 12PM for the rest of the day.
URL:https://golfloomis.com/event/wsga-four-ball-practice-rounds/
END:VEVENT
BEGIN:VEVENT
DTSTART;TZID=America/Los_Angeles:20240513T080000
DTEND;TZID=America/Los_Angeles:20240514T170000
DTSTAMP:20260423T164818
CREATED:20240217T182201Z
LAST-MODIFIED:20240217T182201Z
UID:9267-1715587200-1715706000@golfloomis.com
SUMMARY:High School 3A District Tournament
DESCRIPTION:Golf course will be closed until 4:30PM both May 13th and 14th
URL:https://golfloomis.com/event/high-school-3a-district-tournament/
END:VEVENT
BEGIN:VEVENT
DTSTART;TZID=America/Los_Angeles:20240506T073000
DTEND;TZID=America/Los_Angeles:20240506T113000
DTSTAMP:20260423T164818
CREATED:20240217T182033Z
LAST-MODIFIED:20240217T182033Z
UID:9264-1714980600-1714995000@golfloomis.com
SUMMARY:Whatcom Seniors
DESCRIPTION:Golf course will be closed from 7:30AM to 11:30AM
URL:https://golfloomis.com/event/whatcom-seniors/
END:VEVENT
BEGIN:VEVENT
DTSTART;TZID=America/Los_Angeles:20240503T080000
DTEND;TZID=America/Los_Angeles:20240503T110000
DTSTAMP:20260423T164818
CREATED:20240217T181918Z
LAST-MODIFIED:20240217T181918Z
UID:9261-1714723200-1714734000@golfloomis.com
SUMMARY:Rotary Convention 8AM Shotgun
DESCRIPTION:The golf course will be closed from 8AM until 10:50AM
URL:https://golfloomis.com/event/rotary-convention-8am-shotgun/
END:VEVENT
BEGIN:VEVENT
DTSTART;TZID=America/Los_Angeles:20240429T080000
DTEND;TZID=America/Los_Angeles:20240501T140000
DTSTAMP:20260423T164818
CREATED:20240217T181140Z
LAST-MODIFIED:20240217T181320Z
UID:9256-1714377600-1714572000@golfloomis.com
SUMMARY:Cascade College Championship
DESCRIPTION:8:30AM Shotgun.  The golf course will be closed until 1:40PM the 29th\, 30th\, and 1st
URL:https://golfloomis.com/event/cascade-college-championship/
END:VEVENT
BEGIN:VEVENT
DTSTART;TZID=America/Los_Angeles:20240428T110000
DTEND;TZID=America/Los_Angeles:20240428T190000
DTSTAMP:20260423T164818
CREATED:20240217T180942Z
LAST-MODIFIED:20240217T180942Z
UID:9253-1714302000-1714330800@golfloomis.com
SUMMARY:Cascade College Championship Practice Round
DESCRIPTION:The golf course will be closed from 11:00AM for the rest of the day.
URL:https://golfloomis.com/event/cascade-college-championship-practice-round/
END:VEVENT
BEGIN:VEVENT
DTSTART;VALUE=DATE:20240420
DTEND;VALUE=DATE:20240421
DTSTAMP:20260423T164818
CREATED:20231004T193025Z
LAST-MODIFIED:20231004T205057Z
UID:9091-1713571200-1713657599@golfloomis.com
SUMMARY:CROSS COUNTRY SCRAMBLE
DESCRIPTION:SIGN UP IN THE PRO SHOP\nor email ProShop@GolfLoomis.com \nSaturday\, April 20th\nShotgun start at 10:30am \n$75 Public | $35 Annual Pass\nEntry fee includes greens fee\, gross and net team prize fund\, field prizes\, and complimentary beer. \nTees:\nRed – Ladies\nBlue – Men 50 and under\nWhite – Men 51-64\nYellow – Men 65+ \nFormat:\n4-Person Teams Playing a Scramble Format on a Unique Course Layout. Teams can be any combination of genders. \nCall Pro Shop for details 360-332-1725
URL:https://golfloomis.com/event/cross-country-scramble-2/
LOCATION:Loomis Trail Golf\, 4342 Loomis Trail Road\, Blaine\, WA\, 98230\, United States
ATTACH;FMTTYPE=image/jpeg:https://golfloomis.com/wp-content/uploads/2023/10/WinterTournamentCalendar-web.jpg
END:VEVENT
BEGIN:VEVENT
DTSTART;VALUE=DATE:20240419
DTEND;VALUE=DATE:20240420
DTSTAMP:20260423T164818
CREATED:20240217T180242Z
LAST-MODIFIED:20240217T180242Z
UID:9250-1713484800-1713571199@golfloomis.com
SUMMARY:WSGA Winter Series Finale
DESCRIPTION:The golf course will be closed all day for this WSGA event.
URL:https://golfloomis.com/event/wsga-winter-series-finale/
END:VEVENT
BEGIN:VEVENT
DTSTART;TZID=America/Los_Angeles:20240408T080000
DTEND;TZID=America/Los_Angeles:20240408T160000
DTSTAMP:20260423T164818
CREATED:20240217T180120Z
LAST-MODIFIED:20240217T180120Z
UID:9247-1712563200-1712592000@golfloomis.com
SUMMARY:Tero Conference Shotgun
DESCRIPTION:Golf course will be closed until 3:50PM this day.
URL:https://golfloomis.com/event/tero-conference-shotgun/
END:VEVENT
BEGIN:VEVENT
DTSTART;VALUE=DATE:20240325
DTEND;VALUE=DATE:20240328
DTSTAMP:20260423T164818
CREATED:20240217T175634Z
LAST-MODIFIED:20240217T175757Z
UID:9240-1711324800-1711583999@golfloomis.com
SUMMARY:Aerification
DESCRIPTION:Golf course and driving range will be closed for March 25th through the 27th\, and will re-open on the 28th.
URL:https://golfloomis.com/event/aerification-2/
END:VEVENT
BEGIN:VEVENT
DTSTART;TZID=America/Los_Angeles:20240321T103000
DTEND;TZID=America/Los_Angeles:20240321T140000
DTSTAMP:20260423T164818
CREATED:20240217T175948Z
LAST-MODIFIED:20240217T175948Z
UID:9244-1711017000-1711029600@golfloomis.com
SUMMARY:Lakeside Industries 1PM Shotgun
DESCRIPTION:Tee times will be blocked from 10:50AM to 1:50PM this day.
URL:https://golfloomis.com/event/lakeside-industries-1pm-shotgun/
END:VEVENT
BEGIN:VEVENT
DTSTART;VALUE=DATE:20240316
DTEND;VALUE=DATE:20240317
DTSTAMP:20260423T164818
CREATED:20231004T192936Z
LAST-MODIFIED:20240305T184225Z
UID:9088-1710547200-1710633599@golfloomis.com
SUMMARY:MARCH MADNESS 4-PERSON SCRAMBLE
DESCRIPTION:SIGN UP IN THE PRO SHOP\nor email ProShop@GolfLoomis.com \nSaturday\, March 16\nShotgun start at 10:30am \n$75 Public | $35 Annual Pass\nEntry fee includes greens fee\, gross and net team prize fund\, field prizes\, and complimentary beer. \nTees:\nOrange – Ladies\nWhite – Men 50 and under\nYellow – Men 51-64\nRed – Men 65+ \nFormat:\nFour Person Scramble where the course plays short with some interesting pin placements!  Teams can be any combination of genders. \nCall Pro Shop for details 360-332-1725
URL:https://golfloomis.com/event/madness-4-person-scramble/
LOCATION:Loomis Trail Golf\, 4342 Loomis Trail Road\, Blaine\, WA\, 98230\, United States
ATTACH;FMTTYPE=image/jpeg:https://golfloomis.com/wp-content/uploads/2023/10/WinterTournamentCalendar-web.jpg
END:VEVENT
BEGIN:VEVENT
DTSTART;TZID=America/Los_Angeles:20240302T100000
DTEND;TZID=America/Los_Angeles:20240302T180000
DTSTAMP:20260423T164818
CREATED:20240219T194057Z
LAST-MODIFIED:20240219T200237Z
UID:9333-1709373600-1709402400@golfloomis.com
SUMMARY:US Kids Tour
DESCRIPTION:Tee sheet will be blocked from 10:00am for the rest of the day.
URL:https://golfloomis.com/event/us-kids-tour/
END:VEVENT
BEGIN:VEVENT
DTSTART;VALUE=DATE:20240210
DTEND;VALUE=DATE:20240211
DTSTAMP:20260423T164818
CREATED:20231004T192805Z
LAST-MODIFIED:20231004T205232Z
UID:9084-1707523200-1707609599@golfloomis.com
SUMMARY:4-PERSON CHA\, CHA\, CHA
DESCRIPTION:SIGN UP IN THE PRO SHOP\nor email ProShop@GolfLoomis.com \nSaturday\, February 10\nShotgun start at 10:30am \n$75 Public | $35 Annual Pass\nEntry fee includes greens fee\, gross and net team prize fund\, field prizes\, and complimentary beer. \nTees:\nRed – Ladies\nBlue – Men 50 and under\nWhite – Men 51-64\nYellow – Men 65+ \nFormat:\n4-Person Teams playing an Alternating Best Ball.  Players will play their own ball for this format.  Teams can be any combination of genders. \nCall Pro Shop for details 360-332-1725
URL:https://golfloomis.com/event/4-person-scramble/
LOCATION:Loomis Trail Golf\, 4342 Loomis Trail Road\, Blaine\, WA\, 98230\, United States
ATTACH;FMTTYPE=image/jpeg:https://golfloomis.com/wp-content/uploads/2023/10/WinterTournamentCalendar-web.jpg
END:VEVENT
BEGIN:VEVENT
DTSTART;VALUE=DATE:20240106
DTEND;VALUE=DATE:20240107
DTSTAMP:20260423T164818
CREATED:20231004T192559Z
LAST-MODIFIED:20231004T205258Z
UID:9081-1704499200-1704585599@golfloomis.com
SUMMARY:3-Club Plus Putter Scramble
DESCRIPTION:SIGN UP IN THE PRO SHOP\nor email ProShop@GolfLoomis.com \nSaturday\, January 6\nShotgun start at 10:30am \n$75 Public | $35 Annual Pass\nEntry fee includes greens fee\, gross and net team prize fund\, field prizes\, and complimentary beer. \nTees:\nRed – Ladies\nBlue – Men 50 and under\nWhite – Men 51-64\nYellow – Men 65+ \nFormat:\n3-Person Teams Where Each Player Can Only Select 3 Clubs and a Putter.  Teams can be any combination of genders. \nCall Pro Shop for details 360-332-1725
URL:https://golfloomis.com/event/3-club-plus-putter-scramble/
LOCATION:Loomis Trail Golf\, 4342 Loomis Trail Road\, Blaine\, WA\, 98230\, United States
ATTACH;FMTTYPE=image/jpeg:https://golfloomis.com/wp-content/uploads/2023/10/WinterTournamentCalendar-web.jpg
END:VEVENT
BEGIN:VEVENT
DTSTART;VALUE=DATE:20231216
DTEND;VALUE=DATE:20231217
DTSTAMP:20260423T164818
CREATED:20231004T192442Z
LAST-MODIFIED:20231004T230219Z
UID:9078-1702684800-1702771199@golfloomis.com
SUMMARY:One-Person Scramble
DESCRIPTION:SIGN UP IN THE PRO SHOP\nor email ProShop@GolfLoomis.com \nSaturday\, December 16\nShotgun start at 10:30am \n$75 Public | $35 Annual Pass\nEntry fee includes greens fee\, gross and net team prize fund\, field prizes\, and complimentary beer. \nTees:\nRed – Ladies\nBlue – Men 50 and under\nWhite – Men 51-64\nYellow – Men 65+ \nFormat:\nIndividual Tournament Where Each Player Gets Two Shots From Everywhere! \nCall Pro Shop for details 360-332-1725
URL:https://golfloomis.com/event/one-person-scramble/
LOCATION:Loomis Trail Golf\, 4342 Loomis Trail Road\, Blaine\, WA\, 98230\, United States
ATTACH;FMTTYPE=image/jpeg:https://golfloomis.com/wp-content/uploads/2023/10/WinterTournamentCalendar-web.jpg
END:VEVENT
BEGIN:VEVENT
DTSTART;VALUE=DATE:20231118
DTEND;VALUE=DATE:20231119
DTSTAMP:20260423T164818
CREATED:20231004T192214Z
LAST-MODIFIED:20231004T205633Z
UID:9069-1700265600-1700351999@golfloomis.com
SUMMARY:Shanksgiving Scramble
DESCRIPTION:SIGN UP IN THE PRO SHOP\nor email ProShop@GolfLoomis.com \nSaturday\, November 18\nShotgun start at 10:30am \n$75 Public | $35 Annual Pass\nEntry fee includes greens fee\, gross and net team prize fund\, field prizes\, and complimentary beer. \nTees:\nRed – Ladies\nBlue – Men 50 and under\nWhite – Men 51-64\nYellow – Men 65+ \nFormat:\n4-person scramble with fun pins and interesting tee placements. Teams can be any combination of genders. \nCall Pro Shop for details 360-332-1725
URL:https://golfloomis.com/event/shanksgiving-scramble/
LOCATION:Loomis Trail Golf\, 4342 Loomis Trail Road\, Blaine\, WA\, 98230\, United States
ATTACH;FMTTYPE=image/jpeg:https://golfloomis.com/wp-content/uploads/2023/10/WinterTournamentCalendar-web.jpg
END:VEVENT
BEGIN:VEVENT
DTSTART;VALUE=DATE:20231014
DTEND;VALUE=DATE:20231015
DTSTAMP:20260423T164818
CREATED:20231003T175323Z
LAST-MODIFIED:20231003T175354Z
UID:9055-1697241600-1697327999@golfloomis.com
SUMMARY:Oktoberfest 3 Person Scramble
DESCRIPTION:
URL:https://golfloomis.com/event/oktoberfest-3-person-scramble/
END:VEVENT
BEGIN:VEVENT
DTSTART;VALUE=DATE:20231007
DTEND;VALUE=DATE:20231008
DTSTAMP:20260423T164818
CREATED:20231003T174805Z
LAST-MODIFIED:20231003T174805Z
UID:9052-1696636800-1696723199@golfloomis.com
SUMMARY:Blaine Basketball Fundraiser
DESCRIPTION:The golf course will be closed all day.
URL:https://golfloomis.com/event/blaine-basketball-fundraiser/
END:VEVENT
BEGIN:VEVENT
DTSTART;VALUE=DATE:20230929
DTEND;VALUE=DATE:20231001
DTSTAMP:20260423T164818
CREATED:20230916T220522Z
LAST-MODIFIED:20230916T220522Z
UID:9032-1695945600-1696118399@golfloomis.com
SUMMARY:Loomis Trail Club Championship
DESCRIPTION:September 29th and September 30th.  Tee times in the afternoon on Friday and morning on Saturday.
URL:https://golfloomis.com/event/loomis-trail-club-championship/
END:VEVENT
BEGIN:VEVENT
DTSTART;VALUE=DATE:20230923
DTEND;VALUE=DATE:20230924
DTSTAMP:20260423T164818
CREATED:20230804T161113Z
LAST-MODIFIED:20230804T161118Z
UID:8997-1695427200-1695513599@golfloomis.com
SUMMARY:Young Life Scramble
DESCRIPTION:Course will be closed the entire day.
URL:https://golfloomis.com/event/young-life-scramble/
END:VEVENT
BEGIN:VEVENT
DTSTART;TZID=America/Los_Angeles:20230911T070000
DTEND;TZID=America/Los_Angeles:20230911T140000
DTSTAMP:20260423T164818
CREATED:20230827T153838Z
LAST-MODIFIED:20230827T153844Z
UID:9009-1694415600-1694440800@golfloomis.com
SUMMARY:Whatcom Seniors Tournament
DESCRIPTION:8:30AM Shotgun Start.  The golf course will be closed until 2:00PM.
URL:https://golfloomis.com/event/whatcom-seniors-tournament-2/
END:VEVENT
BEGIN:VEVENT
DTSTART;VALUE=DATE:20230825
DTEND;VALUE=DATE:20230826
DTSTAMP:20260423T164818
CREATED:20230708T143136Z
LAST-MODIFIED:20230708T143203Z
UID:8980-1692921600-1693007999@golfloomis.com
SUMMARY:Cherry Point Reachout
DESCRIPTION:The golf course will be closed all day.
URL:https://golfloomis.com/event/cherry-point-reachout/
END:VEVENT
BEGIN:VEVENT
DTSTART;VALUE=DATE:20230824
DTEND;VALUE=DATE:20230825
DTSTAMP:20260423T164818
CREATED:20230708T143109Z
LAST-MODIFIED:20230708T143109Z
UID:8977-1692835200-1692921599@golfloomis.com
SUMMARY:Boys & Girls Club Tournament
DESCRIPTION:The golf course will be closed all day.
URL:https://golfloomis.com/event/boys-girls-club-tournament/
END:VEVENT
BEGIN:VEVENT
DTSTART;VALUE=DATE:20230811
DTEND;VALUE=DATE:20230812
DTSTAMP:20260423T164818
CREATED:20230708T143024Z
LAST-MODIFIED:20230708T143024Z
UID:8974-1691712000-1691798399@golfloomis.com
SUMMARY:Ducks Unlimited
DESCRIPTION:The golf course will be closed all day.
URL:https://golfloomis.com/event/ducks-unlimited/
END:VEVENT
BEGIN:VEVENT
DTSTART;VALUE=DATE:20230804
DTEND;VALUE=DATE:20230805
DTSTAMP:20260423T164818
CREATED:20230708T142801Z
LAST-MODIFIED:20230708T142801Z
UID:8971-1691107200-1691193599@golfloomis.com
SUMMARY:Ferndale Football Tournament
DESCRIPTION:The golf course will be closed all day.
URL:https://golfloomis.com/event/ferndale-football-tournament/
END:VEVENT
END:VCALENDAR