BEGIN:VCALENDAR
VERSION:2.0
PRODID:-//GolfLoomis - ECPv6.15.20//NONSGML v1.0//EN
CALSCALE:GREGORIAN
METHOD:PUBLISH
X-WR-CALNAME:GolfLoomis
X-ORIGINAL-URL:https://golfloomis.com
X-WR-CALDESC:Events for GolfLoomis
REFRESH-INTERVAL;VALUE=DURATION:PT1H
X-Robots-Tag:noindex
X-PUBLISHED-TTL:PT1H
BEGIN:VTIMEZONE
TZID:America/Los_Angeles
BEGIN:DAYLIGHT
TZOFFSETFROM:-0800
TZOFFSETTO:-0700
TZNAME:PDT
DTSTART:20230312T100000
END:DAYLIGHT
BEGIN:STANDARD
TZOFFSETFROM:-0700
TZOFFSETTO:-0800
TZNAME:PST
DTSTART:20231105T090000
END:STANDARD
BEGIN:DAYLIGHT
TZOFFSETFROM:-0800
TZOFFSETTO:-0700
TZNAME:PDT
DTSTART:20240310T100000
END:DAYLIGHT
BEGIN:STANDARD
TZOFFSETFROM:-0700
TZOFFSETTO:-0800
TZNAME:PST
DTSTART:20241103T090000
END:STANDARD
BEGIN:DAYLIGHT
TZOFFSETFROM:-0800
TZOFFSETTO:-0700
TZNAME:PDT
DTSTART:20250309T100000
END:DAYLIGHT
BEGIN:STANDARD
TZOFFSETFROM:-0700
TZOFFSETTO:-0800
TZNAME:PST
DTSTART:20251102T090000
END:STANDARD
BEGIN:DAYLIGHT
TZOFFSETFROM:-0800
TZOFFSETTO:-0700
TZNAME:PDT
DTSTART:20260308T100000
END:DAYLIGHT
BEGIN:STANDARD
TZOFFSETFROM:-0700
TZOFFSETTO:-0800
TZNAME:PST
DTSTART:20261101T090000
END:STANDARD
END:VTIMEZONE
BEGIN:VEVENT
DTSTART;VALUE=DATE:20250801
DTEND;VALUE=DATE:20250802
DTSTAMP:20260423T170235
CREATED:20250331T172836Z
LAST-MODIFIED:20250331T172836Z
UID:9758-1754006400-1754092799@golfloomis.com
SUMMARY:Ferndale Football Tournament
DESCRIPTION:The golf course will be closed the entire day.
URL:https://golfloomis.com/event/ferndale-football-tournament-2/
END:VEVENT
BEGIN:VEVENT
DTSTART;TZID=America/Los_Angeles:20250730T133000
DTEND;TZID=America/Los_Angeles:20250730T155000
DTSTAMP:20260423T170235
CREATED:20250331T172700Z
LAST-MODIFIED:20250331T172703Z
UID:9755-1753882200-1753890600@golfloomis.com
SUMMARY:John Bennett Golf Group
DESCRIPTION:The tournament will be tee times starting from 1:30pm through 3:50pm.
URL:https://golfloomis.com/event/john-bennett-golf-group/
END:VEVENT
BEGIN:VEVENT
DTSTART;VALUE=DATE:20250725
DTEND;VALUE=DATE:20250726
DTSTAMP:20260423T170235
CREATED:20250331T172538Z
LAST-MODIFIED:20250331T172538Z
UID:9752-1753401600-1753487999@golfloomis.com
SUMMARY:Lynden Christian Double Shotgun Tournament
DESCRIPTION:The golf course will be closed the entire day.
URL:https://golfloomis.com/event/lynden-christian-double-shotgun-tournament/
END:VEVENT
BEGIN:VEVENT
DTSTART;TZID=America/Los_Angeles:20250723T100000
DTEND;TZID=America/Los_Angeles:20250723T140000
DTSTAMP:20260423T170235
CREATED:20250331T172457Z
LAST-MODIFIED:20250331T172504Z
UID:9749-1753264800-1753279200@golfloomis.com
SUMMARY:XXIO Demo Day
DESCRIPTION:Come check out all the latest and greatest from XXIO golf clubs!  The Demo Day will be on the driving range from 10am to 2pm
URL:https://golfloomis.com/event/xxio-demo-day-3/
END:VEVENT
BEGIN:VEVENT
DTSTART;VALUE=DATE:20250719
DTEND;VALUE=DATE:20250721
DTSTAMP:20260423T170235
CREATED:20250331T172114Z
LAST-MODIFIED:20250331T172117Z
UID:9746-1752883200-1753055999@golfloomis.com
SUMMARY:Notah Begay III Junior Tournament
DESCRIPTION:The golf course will be closed both Saturday and Sunday for the Junior Event.
URL:https://golfloomis.com/event/notah-begay-iii-junior-tournament/
END:VEVENT
BEGIN:VEVENT
DTSTART;VALUE=DATE:20250712
DTEND;VALUE=DATE:20250713
DTSTAMP:20260423T170235
CREATED:20250331T171946Z
LAST-MODIFIED:20250331T171950Z
UID:9743-1752278400-1752364799@golfloomis.com
SUMMARY:GHAWK Tournament
DESCRIPTION:The golf course will be closed the entire day for the GHAWK Shotgun Tournament.
URL:https://golfloomis.com/event/ghawk-tournament/
END:VEVENT
BEGIN:VEVENT
DTSTART;TZID=America/Los_Angeles:20250621T080000
DTEND;TZID=America/Los_Angeles:20250622T130000
DTSTAMP:20260423T170235
CREATED:20250331T171841Z
LAST-MODIFIED:20250331T171849Z
UID:9740-1750492800-1750597200@golfloomis.com
SUMMARY:Salmon People Tournament
DESCRIPTION:The course will be blocked from 8am to 1pm both Saturday and Sunday.
URL:https://golfloomis.com/event/salmon-people-tournament-4/
END:VEVENT
BEGIN:VEVENT
DTSTART;VALUE=DATE:20250619
DTEND;VALUE=DATE:20250620
DTSTAMP:20260423T170235
CREATED:20250529T165315Z
LAST-MODIFIED:20250529T165315Z
UID:9854-1750291200-1750377599@golfloomis.com
SUMMARY:Heidi Julius Foundation Tournament
DESCRIPTION:Golf course will be closed the entire day.
URL:https://golfloomis.com/event/heidi-julius-foundation-tournament/
END:VEVENT
BEGIN:VEVENT
DTSTART;TZID=America/Los_Angeles:20250618T094000
DTEND;TZID=America/Los_Angeles:20250618T131000
DTSTAMP:20260423T170235
CREATED:20250331T171735Z
LAST-MODIFIED:20250331T171735Z
UID:9737-1750239600-1750252200@golfloomis.com
SUMMARY:Washington Pipe Traders
DESCRIPTION:12:30PM Modified Shotgun Start. \nThe tee sheet will be blocked from 9:40am to 1:10pm\, and again from 2:20pm for the rest of the day.
URL:https://golfloomis.com/event/washington-pipe-traders/
END:VEVENT
BEGIN:VEVENT
DTSTART;VALUE=DATE:20250607
DTEND;VALUE=DATE:20250608
DTSTAMP:20260423T170235
CREATED:20250224T174918Z
LAST-MODIFIED:20250312T191026Z
UID:9687-1749254400-1749340799@golfloomis.com
SUMMARY:Blaine Scholarship Foundation Shotgun Tournament
DESCRIPTION:The golf course will be closed all day for this outside event.  If you would like to play\, please click on the link below to see the flyer for more information or to register! \nhttps://golfloomis.com/wp-content/uploads/2025/02/Blaine-Scholarship-Flyer.pdf \n 
URL:https://golfloomis.com/event/blaine-scholarship-foundation-shotgun-tournament/
END:VEVENT
BEGIN:VEVENT
DTSTART;TZID=America/Los_Angeles:20250519T083000
DTEND;TZID=America/Los_Angeles:20250519T233000
DTSTAMP:20260423T170235
CREATED:20250224T174804Z
LAST-MODIFIED:20250224T174804Z
UID:9684-1747643400-1747697400@golfloomis.com
SUMMARY:Whatcom Seniors Tournament
DESCRIPTION:72 Players.  Tee times starting at 8:30AM and going until 11:40AM
URL:https://golfloomis.com/event/whatcom-seniors-tournament-3/
END:VEVENT
BEGIN:VEVENT
DTSTART;TZID=America/Los_Angeles:20250510T100000
DTEND;TZID=America/Los_Angeles:20250510T113000
DTSTAMP:20260423T170235
CREATED:20250224T174423Z
LAST-MODIFIED:20250304T154507Z
UID:9681-1746871200-1746876600@golfloomis.com
SUMMARY:Seattle US Amateur Tour
DESCRIPTION:40 Players with tee times starting at 10AM.
URL:https://golfloomis.com/event/seattle-us-amateur-tour/
END:VEVENT
BEGIN:VEVENT
DTSTART;TZID=America/Los_Angeles:20250507T100000
DTEND;TZID=America/Los_Angeles:20250507T150000
DTSTAMP:20260423T170235
CREATED:20250422T155210Z
LAST-MODIFIED:20250422T155758Z
UID:9803-1746612000-1746630000@golfloomis.com
SUMMARY:Lummi High School District Tournament
DESCRIPTION:Tee times are blocked from 10:00AM to 3:00PM for the District Tournament.
URL:https://golfloomis.com/event/lummi-high-school-district-tournament/
END:VEVENT
BEGIN:VEVENT
DTSTART;TZID=America/Los_Angeles:20250424T150000
DTEND;TZID=America/Los_Angeles:20250424T180000
DTSTAMP:20260423T170235
CREATED:20250224T174003Z
LAST-MODIFIED:20250304T150353Z
UID:9676-1745506800-1745517600@golfloomis.com
SUMMARY:Srixon Demo Day
DESCRIPTION:Srixon will be here with all the new equipment from 3PM to 6PM.   Make an appointment for a 1 on 1 time slot in the golf shop!
URL:https://golfloomis.com/event/srixon-demo-day/
END:VEVENT
BEGIN:VEVENT
DTSTART;VALUE=DATE:20250419
DTEND;VALUE=DATE:20250420
DTSTAMP:20260423T170235
CREATED:20240908T162348Z
LAST-MODIFIED:20250207T191648Z
UID:9532-1745020800-1745107199@golfloomis.com
SUMMARY:Cross Country Scramble
DESCRIPTION:10:30AM Shotgun Start \nFour-person teams will play a unique course layout.
URL:https://golfloomis.com/event/cross-country-scramble-3/
END:VEVENT
BEGIN:VEVENT
DTSTART;VALUE=DATE:20250324
DTEND;VALUE=DATE:20250327
DTSTAMP:20260423T170235
CREATED:20250304T150514Z
LAST-MODIFIED:20250304T150519Z
UID:9696-1742774400-1743033599@golfloomis.com
SUMMARY:Aerification
DESCRIPTION:The golf course and driving range will be closed from March 24th through March 26th for aerification of the greens and tee boxes.
URL:https://golfloomis.com/event/aerification-5/
END:VEVENT
BEGIN:VEVENT
DTSTART;VALUE=DATE:20250315
DTEND;VALUE=DATE:20250316
DTSTAMP:20260423T170235
CREATED:20240908T162248Z
LAST-MODIFIED:20250207T185921Z
UID:9529-1741996800-1742083199@golfloomis.com
SUMMARY:March Madness Scramble
DESCRIPTION:10:30AM Shotgun Start \nFour person teams will play a Scramble format on a golf course with interesting tee placements and tough pins!
URL:https://golfloomis.com/event/march-madness-scramble/
ATTACH;FMTTYPE=image/jpeg:https://golfloomis.com/wp-content/uploads/2024/09/The_Madness_Scramble_2025-WebPromo.jpg
END:VEVENT
BEGIN:VEVENT
DTSTART;TZID=America/Los_Angeles:20250308T090000
DTEND;TZID=America/Los_Angeles:20250309T140000
DTSTAMP:20260423T170235
CREATED:20250224T173726Z
LAST-MODIFIED:20250224T173801Z
UID:9670-1741424400-1741528800@golfloomis.com
SUMMARY:US Kids Golf Tournament
DESCRIPTION:Course is closed from 9AM – 2PM both Saturday and Sunday.
URL:https://golfloomis.com/event/us-kids-golf-tournament/
END:VEVENT
BEGIN:VEVENT
DTSTART;VALUE=DATE:20250224
DTEND;VALUE=DATE:20250227
DTSTAMP:20260423T170235
CREATED:20250224T173851Z
LAST-MODIFIED:20250224T173851Z
UID:9673-1740355200-1740614399@golfloomis.com
SUMMARY:Aerification
DESCRIPTION:The Driving Range and Golf Course will be closed the 24th-26th of March for Aerification of the greens and tee boxes.
URL:https://golfloomis.com/event/aerification-4/
END:VEVENT
BEGIN:VEVENT
DTSTART;VALUE=DATE:20250215
DTEND;VALUE=DATE:20250216
DTSTAMP:20260423T170235
CREATED:20240908T162008Z
LAST-MODIFIED:20250207T205008Z
UID:9526-1739577600-1739663999@golfloomis.com
SUMMARY:4 Person Cha\, Cha\, Cha - Canceled due to Weather!
DESCRIPTION:CANCELED due to weather. \n  \n10:30AM Shotgun Start \n4 Person teams will play their own ball throughout the entire round.  The team score will be as follows: \nHole #1 – Count one best score\nHole #2 – Count two best scores\nHole #3 – Count three best scores\nHole #4 – Count one best score\nand this pattern continues on through the 18th hole.
URL:https://golfloomis.com/event/4-person-cha-cha-cha/
ATTACH;FMTTYPE=image/jpeg:https://golfloomis.com/wp-content/uploads/2024/09/Cha_Cha_Cha_2025-Web.jpg
END:VEVENT
BEGIN:VEVENT
DTSTART;VALUE=DATE:20250111
DTEND;VALUE=DATE:20250112
DTSTAMP:20260423T170235
CREATED:20240908T161756Z
LAST-MODIFIED:20240908T161801Z
UID:9523-1736553600-1736639999@golfloomis.com
SUMMARY:3 Clubs & Putter - 3 Person Scramble
DESCRIPTION:10:30AM Shotgun Start \n3 Person teams will pick 3 clubs to use each\, and each player must use a putter as the 4th club.  Teams will play a Scramble format.
URL:https://golfloomis.com/event/3-clubs-putter-3-person-scramble/
END:VEVENT
BEGIN:VEVENT
DTSTART;VALUE=DATE:20241221
DTEND;VALUE=DATE:20241222
DTSTAMP:20260423T170235
CREATED:20240908T161558Z
LAST-MODIFIED:20240908T161611Z
UID:9520-1734739200-1734825599@golfloomis.com
SUMMARY:2 Person Scramble
DESCRIPTION:10:30AM Shotgun Start \n2 Person teams will play a Scramble format.
URL:https://golfloomis.com/event/2-person-scramble/
END:VEVENT
BEGIN:VEVENT
DTSTART;VALUE=DATE:20241116
DTEND;VALUE=DATE:20241117
DTSTAMP:20260423T170235
CREATED:20240908T160351Z
LAST-MODIFIED:20240908T160402Z
UID:9514-1731715200-1731801599@golfloomis.com
SUMMARY:Shanksgiving Scramble
DESCRIPTION:Four person scramble with interesting tee placements and challenging pins. \n10:30AM Shotgun Start
URL:https://golfloomis.com/event/shanksgiving-scramble-2/
END:VEVENT
BEGIN:VEVENT
DTSTART;VALUE=DATE:20241012
DTEND;VALUE=DATE:20241013
DTSTAMP:20260423T170235
CREATED:20240908T161421Z
LAST-MODIFIED:20240908T161435Z
UID:9517-1728691200-1728777599@golfloomis.com
SUMMARY:Black & Orange Shamble
DESCRIPTION:New Event!  10:30AM Shotgun Start \n4 Person Shamble – Each player hits their tee shot and the team selects the best drive.  Each player then plays from that spot\, and plays their own ball in from there until the ball is holed.\nEach hole will have 4 scores from the team\, but only 2 scores will count.  The 2 scores that count will be the best Gross ball and the best Net ball from each foursome. \n 
URL:https://golfloomis.com/event/black-orange-shamble/
END:VEVENT
BEGIN:VEVENT
DTSTART;VALUE=DATE:20241009
DTEND;VALUE=DATE:20241010
DTSTAMP:20260423T170235
CREATED:20240924T151802Z
LAST-MODIFIED:20240924T151806Z
UID:9547-1728432000-1728518399@golfloomis.com
SUMMARY:WWCPGA Fall Fling
DESCRIPTION:11AM Shotgun Start.  The golf course will be closed all day.
URL:https://golfloomis.com/event/wwcpga-fall-fling/
END:VEVENT
BEGIN:VEVENT
DTSTART;VALUE=DATE:20241005
DTEND;VALUE=DATE:20241006
DTSTAMP:20260423T170235
CREATED:20240226T185320Z
LAST-MODIFIED:20240226T185341Z
UID:9339-1728086400-1728172799@golfloomis.com
SUMMARY:Blaine Basketball Shotgun
DESCRIPTION:The golf course will be closed all day.
URL:https://golfloomis.com/event/blaine-basketball-shotgun/
END:VEVENT
BEGIN:VEVENT
DTSTART;VALUE=DATE:20240924
DTEND;VALUE=DATE:20240927
DTSTAMP:20260423T170235
CREATED:20240827T183526Z
LAST-MODIFIED:20240827T183526Z
UID:9499-1727136000-1727395199@golfloomis.com
SUMMARY:Aerification
DESCRIPTION:The golf course and driving range will be closed September 24th-26th for Aerification of the greens and tees.
URL:https://golfloomis.com/event/aerification-3/
END:VEVENT
BEGIN:VEVENT
DTSTART;TZID=America/Los_Angeles:20240923T103000
DTEND;TZID=America/Los_Angeles:20240923T120000
DTSTAMP:20260423T170235
CREATED:20240217T185529Z
LAST-MODIFIED:20240217T185529Z
UID:9327-1727087400-1727092800@golfloomis.com
SUMMARY:Dave Jex Group
DESCRIPTION:Golf course will be closed from 10:30AM until 12:00PM
URL:https://golfloomis.com/event/dave-jex-group/
END:VEVENT
BEGIN:VEVENT
DTSTART;VALUE=DATE:20240921
DTEND;VALUE=DATE:20240922
DTSTAMP:20260423T170235
CREATED:20240217T185425Z
LAST-MODIFIED:20240217T185425Z
UID:9324-1726876800-1726963199@golfloomis.com
SUMMARY:Young Life Shotgun
DESCRIPTION:Golf course will be closed all day
URL:https://golfloomis.com/event/young-life-shotgun/
END:VEVENT
BEGIN:VEVENT
DTSTART;TZID=America/Los_Angeles:20240909T070000
DTEND;TZID=America/Los_Angeles:20240909T113000
DTSTAMP:20260423T170235
CREATED:20240217T185259Z
LAST-MODIFIED:20240217T185259Z
UID:9318-1725865200-1725881400@golfloomis.com
SUMMARY:Whatcom Seniors
DESCRIPTION:Golf course will be closed until 11:30am
URL:https://golfloomis.com/event/whatcom-seniors-2/
END:VEVENT
END:VCALENDAR