BEGIN:VCALENDAR
VERSION:2.0
PRODID:-//GolfLoomis - ECPv6.15.20//NONSGML v1.0//EN
CALSCALE:GREGORIAN
METHOD:PUBLISH
X-ORIGINAL-URL:https://golfloomis.com
X-WR-CALDESC:Events for GolfLoomis
REFRESH-INTERVAL;VALUE=DURATION:PT1H
X-Robots-Tag:noindex
X-PUBLISHED-TTL:PT1H
BEGIN:VTIMEZONE
TZID:America/Los_Angeles
BEGIN:DAYLIGHT
TZOFFSETFROM:-0800
TZOFFSETTO:-0700
TZNAME:PDT
DTSTART:20250309T100000
END:DAYLIGHT
BEGIN:STANDARD
TZOFFSETFROM:-0700
TZOFFSETTO:-0800
TZNAME:PST
DTSTART:20251102T090000
END:STANDARD
BEGIN:DAYLIGHT
TZOFFSETFROM:-0800
TZOFFSETTO:-0700
TZNAME:PDT
DTSTART:20260308T100000
END:DAYLIGHT
BEGIN:STANDARD
TZOFFSETFROM:-0700
TZOFFSETTO:-0800
TZNAME:PST
DTSTART:20261101T090000
END:STANDARD
BEGIN:DAYLIGHT
TZOFFSETFROM:-0800
TZOFFSETTO:-0700
TZNAME:PDT
DTSTART:20270314T100000
END:DAYLIGHT
BEGIN:STANDARD
TZOFFSETFROM:-0700
TZOFFSETTO:-0800
TZNAME:PST
DTSTART:20271107T090000
END:STANDARD
END:VTIMEZONE
BEGIN:VEVENT
DTSTART;VALUE=DATE:20260405
DTEND;VALUE=DATE:20260406
DTSTAMP:20260423T123357
CREATED:20260226T165514Z
LAST-MODIFIED:20260226T165537Z
UID:10241-1775347200-1775433599@golfloomis.com
SUMMARY:Sunday Skins Game
DESCRIPTION:Join us on the first Sunday of every month at Loomis Trail for our Sunday Skins Games!  Play any time of the day\, with anybody\, and compete in the cash buy in and cash pay out Skins Game! \nCall the pro shop for more details.
URL:https://golfloomis.com/event/sunday-skins-game-2/
END:VEVENT
BEGIN:VEVENT
DTSTART;VALUE=DATE:20260418
DTEND;VALUE=DATE:20260419
DTSTAMP:20260423T123357
CREATED:20250924T214347Z
LAST-MODIFIED:20250924T214550Z
UID:10040-1776470400-1776556799@golfloomis.com
SUMMARY:Cross Country Scramble
DESCRIPTION:4-Person Teams\nTeams play a scramble format on a unique course layout.\n \n10:30AM Shotgun Start.\n$80 Public / $40 Annual Pass Holder \nFees include GROSS and NET payout\, field prizes\, and a complimentary beer. \nPlease see the “Upcoming Tournaments” page for details.
URL:https://golfloomis.com/event/cross-country-scramble-4/
ATTACH;FMTTYPE=image/jpeg:https://golfloomis.com/wp-content/uploads/2025/09/2025WinterTournamentCalendar_Web.jpg
END:VEVENT
BEGIN:VEVENT
DTSTART;VALUE=DATE:20260425
DTEND;VALUE=DATE:20260426
DTSTAMP:20260423T123357
CREATED:20260129T222830Z
LAST-MODIFIED:20260129T223127Z
UID:10164-1777075200-1777161599@golfloomis.com
SUMMARY:U.S. Kids Golf Event
DESCRIPTION:The golf course will be closed all day for this outside event.
URL:https://golfloomis.com/event/u-s-kids-golf-event/
END:VEVENT
BEGIN:VEVENT
DTSTART;VALUE=DATE:20260503
DTEND;VALUE=DATE:20260504
DTSTAMP:20260423T123357
CREATED:20260226T165932Z
LAST-MODIFIED:20260226T171358Z
UID:10244-1777766400-1777852799@golfloomis.com
SUMMARY:Sunday Skins Game
DESCRIPTION:Join us on the first Sunday of every month at Loomis Trail for our Sunday Skins Games!  Play any time of the day\, with anybody\, and compete in the cash buy in and cash pay out Skins Game! \nCall the pro shop for more details.
URL:https://golfloomis.com/event/sunday-skins-game-3/
END:VEVENT
BEGIN:VEVENT
DTSTART;VALUE=DATE:20260516
DTEND;VALUE=DATE:20260518
DTSTAMP:20260423T123357
CREATED:20260226T171756Z
LAST-MODIFIED:20260226T171756Z
UID:10254-1778889600-1779062399@golfloomis.com
SUMMARY:Whatcom County Amateur
DESCRIPTION:Open to anyone with a valid GHIN Handicap!  More information coming soon.
URL:https://golfloomis.com/event/whatcom-county-amateur/
END:VEVENT
BEGIN:VEVENT
DTSTART;VALUE=DATE:20260607
DTEND;VALUE=DATE:20260608
DTSTAMP:20260423T123357
CREATED:20260226T171432Z
LAST-MODIFIED:20260226T171436Z
UID:10248-1780790400-1780876799@golfloomis.com
SUMMARY:Sunday Skins Game
DESCRIPTION:Join us on the first Sunday of every month at Loomis Trail for our Sunday Skins Games!  Play any time of the day\, with anybody\, and compete in the cash buy in and cash pay out Skins Game! \nCall the pro shop for more details.
URL:https://golfloomis.com/event/sunday-skins-game-4/
END:VEVENT
BEGIN:VEVENT
DTSTART;VALUE=DATE:20260613
DTEND;VALUE=DATE:20260614
DTSTAMP:20260423T123357
CREATED:20260129T222209Z
LAST-MODIFIED:20260129T222458Z
UID:10154-1781308800-1781395199@golfloomis.com
SUMMARY:Blaine Scholarship Foundation Tournament
DESCRIPTION:The golf course will be closed all day for this outside event. \nClick below to view the flyer! \nBlaine Scholarship Flyer
URL:https://golfloomis.com/event/blaine-scholarship-foundation-tournament/
END:VEVENT
BEGIN:VEVENT
DTSTART;VALUE=DATE:20260705
DTEND;VALUE=DATE:20260706
DTSTAMP:20260423T123357
CREATED:20260226T171505Z
LAST-MODIFIED:20260226T171505Z
UID:10251-1783209600-1783295999@golfloomis.com
SUMMARY:Sunday Skins Game
DESCRIPTION:Join us on the first Sunday of every month at Loomis Trail for our Sunday Skins Games!  Play any time of the day\, with anybody\, and compete in the cash buy in and cash pay out Skins Game! \nCall the pro shop for more details.
URL:https://golfloomis.com/event/sunday-skins-game-5/
END:VEVENT
END:VCALENDAR