BEGIN:VCALENDAR
VERSION:2.0
PRODID:-//GolfLoomis - ECPv6.15.20//NONSGML v1.0//EN
CALSCALE:GREGORIAN
METHOD:PUBLISH
X-WR-CALNAME:GolfLoomis
X-ORIGINAL-URL:https://golfloomis.com
X-WR-CALDESC:Events for GolfLoomis
REFRESH-INTERVAL;VALUE=DURATION:PT1H
X-Robots-Tag:noindex
X-PUBLISHED-TTL:PT1H
BEGIN:VTIMEZONE
TZID:America/Los_Angeles
BEGIN:DAYLIGHT
TZOFFSETFROM:-0800
TZOFFSETTO:-0700
TZNAME:PDT
DTSTART:20240310T100000
END:DAYLIGHT
BEGIN:STANDARD
TZOFFSETFROM:-0700
TZOFFSETTO:-0800
TZNAME:PST
DTSTART:20241103T090000
END:STANDARD
BEGIN:DAYLIGHT
TZOFFSETFROM:-0800
TZOFFSETTO:-0700
TZNAME:PDT
DTSTART:20250309T100000
END:DAYLIGHT
BEGIN:STANDARD
TZOFFSETFROM:-0700
TZOFFSETTO:-0800
TZNAME:PST
DTSTART:20251102T090000
END:STANDARD
BEGIN:DAYLIGHT
TZOFFSETFROM:-0800
TZOFFSETTO:-0700
TZNAME:PDT
DTSTART:20260308T100000
END:DAYLIGHT
BEGIN:STANDARD
TZOFFSETFROM:-0700
TZOFFSETTO:-0800
TZNAME:PST
DTSTART:20261101T090000
END:STANDARD
BEGIN:DAYLIGHT
TZOFFSETFROM:-0800
TZOFFSETTO:-0700
TZNAME:PDT
DTSTART:20270314T100000
END:DAYLIGHT
BEGIN:STANDARD
TZOFFSETFROM:-0700
TZOFFSETTO:-0800
TZNAME:PST
DTSTART:20271107T090000
END:STANDARD
END:VTIMEZONE
BEGIN:VEVENT
DTSTART;VALUE=DATE:20260425
DTEND;VALUE=DATE:20260426
DTSTAMP:20260423T145425
CREATED:20260129T222830Z
LAST-MODIFIED:20260129T223127Z
UID:10164-1777075200-1777161599@golfloomis.com
SUMMARY:U.S. Kids Golf Event
DESCRIPTION:The golf course will be closed all day for this outside event.
URL:https://golfloomis.com/event/u-s-kids-golf-event/
END:VEVENT
BEGIN:VEVENT
DTSTART;VALUE=DATE:20260418
DTEND;VALUE=DATE:20260419
DTSTAMP:20260423T145425
CREATED:20250924T214347Z
LAST-MODIFIED:20250924T214550Z
UID:10040-1776470400-1776556799@golfloomis.com
SUMMARY:Cross Country Scramble
DESCRIPTION:4-Person Teams\nTeams play a scramble format on a unique course layout.\n \n10:30AM Shotgun Start.\n$80 Public / $40 Annual Pass Holder \nFees include GROSS and NET payout\, field prizes\, and a complimentary beer. \nPlease see the “Upcoming Tournaments” page for details.
URL:https://golfloomis.com/event/cross-country-scramble-4/
ATTACH;FMTTYPE=image/jpeg:https://golfloomis.com/wp-content/uploads/2025/09/2025WinterTournamentCalendar_Web.jpg
END:VEVENT
BEGIN:VEVENT
DTSTART;VALUE=DATE:20260405
DTEND;VALUE=DATE:20260406
DTSTAMP:20260423T145425
CREATED:20260226T165514Z
LAST-MODIFIED:20260226T165537Z
UID:10241-1775347200-1775433599@golfloomis.com
SUMMARY:Sunday Skins Game
DESCRIPTION:Join us on the first Sunday of every month at Loomis Trail for our Sunday Skins Games!  Play any time of the day\, with anybody\, and compete in the cash buy in and cash pay out Skins Game! \nCall the pro shop for more details.
URL:https://golfloomis.com/event/sunday-skins-game-2/
END:VEVENT
BEGIN:VEVENT
DTSTART;VALUE=DATE:20260324
DTEND;VALUE=DATE:20260327
DTSTAMP:20260423T145425
CREATED:20260129T222735Z
LAST-MODIFIED:20260129T222738Z
UID:10161-1774310400-1774569599@golfloomis.com
SUMMARY:Aerification
DESCRIPTION:The golf course and driving range will be closed all day the 24th through the 26th for aerification.
URL:https://golfloomis.com/event/aerification-7/
END:VEVENT
BEGIN:VEVENT
DTSTART;VALUE=DATE:20260314
DTEND;VALUE=DATE:20260315
DTSTAMP:20260423T145425
CREATED:20250924T214114Z
LAST-MODIFIED:20250924T214426Z
UID:10036-1773446400-1773532799@golfloomis.com
SUMMARY:March Madness Scramble
DESCRIPTION:4-Person Teams\nScramble format where the course will be set up as difficult!\n \n10:30AM Shotgun Start.\n$80 Public / $40 Annual Pass Holder \nFees include GROSS and NET payout\, field prizes\, and a complimentary beer. \nPlease see the “Upcoming Tournaments” page for details.
URL:https://golfloomis.com/event/march-madness-scramble-2/
ATTACH;FMTTYPE=image/jpeg:https://golfloomis.com/wp-content/uploads/2025/09/2025WinterTournamentCalendar_Web.jpg
END:VEVENT
BEGIN:VEVENT
DTSTART;VALUE=DATE:20260301
DTEND;VALUE=DATE:20260302
DTSTAMP:20260423T145425
CREATED:20260226T165227Z
LAST-MODIFIED:20260226T165227Z
UID:10238-1772323200-1772409599@golfloomis.com
SUMMARY:Sunday Skins Game
DESCRIPTION:Join us on the first Sunday of every month at Loomis Trail for our Sunday Skins Games!  Play any time of the day\, with anybody\, and compete in the cash buy in and cash pay out Skins Game! \nCall the pro shop for more details.
URL:https://golfloomis.com/event/sunday-skins-game/
END:VEVENT
BEGIN:VEVENT
DTSTART;VALUE=DATE:20260221
DTEND;VALUE=DATE:20260222
DTSTAMP:20260423T145425
CREATED:20250919T162946Z
LAST-MODIFIED:20250924T214456Z
UID:10006-1771632000-1771718399@golfloomis.com
SUMMARY:4-Person Cha Cha Cha
DESCRIPTION:4-Person Cha Cha Cha\nTeams play an alternating best ball\n \n10:30AM Shotgun Start.\n$80 Public / $40 Annual Pass Holder \nFees include GROSS and NET payout\, field prizes\, and a complimentary beer. \nPlease see the “Upcoming Tournaments” page for details.
URL:https://golfloomis.com/event/4-person-cha-cha-cha-2/
ATTACH;FMTTYPE=image/jpeg:https://golfloomis.com/wp-content/uploads/2025/09/2025WinterTournamentCalendar_Web.jpg
END:VEVENT
BEGIN:VEVENT
DTSTART;VALUE=DATE:20260206
DTEND;VALUE=DATE:20260207
DTSTAMP:20260423T145425
CREATED:20260129T222625Z
LAST-MODIFIED:20260129T222628Z
UID:10158-1770336000-1770422399@golfloomis.com
SUMMARY:WA Golf Event - 2 Person Chapman
DESCRIPTION:The golf course will be closed this day for the outside event.  Anyone can play\, so grab a partner and sign up via the Washington Golf website!
URL:https://golfloomis.com/event/wa-golf-event-2-person-chapman/
END:VEVENT
BEGIN:VEVENT
DTSTART;VALUE=DATE:20260110
DTEND;VALUE=DATE:20260111
DTSTAMP:20260423T145425
CREATED:20250919T162557Z
LAST-MODIFIED:20250924T213846Z
UID:10002-1768003200-1768089599@golfloomis.com
SUMMARY:3 Clubs And A Putter
DESCRIPTION:3-Person Scramble\nEach player can only pick 3 clubs plus a putter. \n10:30AM Shotgun Start.\n$80 Public / $40 Annual Pass Holder \nFees include GROSS and NET payout\, field prizes\, and a complimentary beer. \nPlease see the “Upcoming Tournaments” page for details. \n 
URL:https://golfloomis.com/event/3-clubs-and-a-putter-3-person-scramble/
ATTACH;FMTTYPE=image/jpeg:https://golfloomis.com/wp-content/uploads/2025/09/2025WinterTournamentCalendar_Web.jpg
END:VEVENT
BEGIN:VEVENT
DTSTART;VALUE=DATE:20251220
DTEND;VALUE=DATE:20251221
DTSTAMP:20260423T145425
CREATED:20250919T162515Z
LAST-MODIFIED:20250924T213713Z
UID:9999-1766188800-1766275199@golfloomis.com
SUMMARY:2-Person Scramble
DESCRIPTION:2-Person Scramble\nTeams of two play in a scramble format.\n \n10:30AM Shotgun Start.\n$80 Public / $40 Annual Pass Holder \nFees include GROSS and NET payout\, field prizes\, and a complimentary beer. \nPlease see the “Upcoming Tournaments” page for details.
URL:https://golfloomis.com/event/2-person-scramble-2/
ATTACH;FMTTYPE=image/jpeg:https://golfloomis.com/wp-content/uploads/2025/09/2025WinterTournamentCalendar_Web.jpg
END:VEVENT
BEGIN:VEVENT
DTSTART;VALUE=DATE:20251129
DTEND;VALUE=DATE:20251130
DTSTAMP:20260423T145425
CREATED:20250919T162346Z
LAST-MODIFIED:20250924T213154Z
UID:9995-1764374400-1764460799@golfloomis.com
SUMMARY:Shanksgiving Scramble
DESCRIPTION:4-Person Scramble\nTeams play interesting tee boxes and pin placements.\n \n10:30AM Shotgun Start.\n$80 Public / $40 Annual Pass Holder \nFees include GROSS and NET payout\, field prizes\, and a complimentary beer. \nPlease see the “Upcoming Tournaments” page for details.
URL:https://golfloomis.com/event/shanksgiving-scramble-3/
ATTACH;FMTTYPE=image/jpeg:https://golfloomis.com/wp-content/uploads/2025/09/2025WinterTournamentCalendar_Web.jpg
END:VEVENT
BEGIN:VEVENT
DTSTART;VALUE=DATE:20251018
DTEND;VALUE=DATE:20251019
DTSTAMP:20260423T145425
CREATED:20250919T162145Z
LAST-MODIFIED:20250924T213127Z
UID:9992-1760745600-1760831999@golfloomis.com
SUMMARY:Black & Orange Shamble
DESCRIPTION:4-Person Shamble\nTeams play 9 Holes from the Black tees and 9 holes from the Orange tees.\n \n10:30AM Shotgun Start.\n$80 Public / $40 Annual Pass Holder \nFees include GROSS and NET payout\, field prizes\, and a complimentary beer. \nPlease see the “Upcoming Tournaments” page for details.
URL:https://golfloomis.com/event/black-orange-shamble-2/
ATTACH;FMTTYPE=image/jpeg:https://golfloomis.com/wp-content/uploads/2025/09/2025WinterTournamentCalendar_Web.jpg
END:VEVENT
BEGIN:VEVENT
DTSTART;VALUE=DATE:20251006
DTEND;VALUE=DATE:20251009
DTSTAMP:20260423T145425
CREATED:20250829T180729Z
LAST-MODIFIED:20250924T213308Z
UID:9960-1759708800-1759967999@golfloomis.com
SUMMARY:Aerification
DESCRIPTION:The golf course and driving range will be closed October 6th-8th.
URL:https://golfloomis.com/event/aerification-6/
ATTACH;FMTTYPE=image/png:https://golfloomis.com/wp-content/uploads/2025/09/aeration-maintenance.png
END:VEVENT
BEGIN:VEVENT
DTSTART;VALUE=DATE:20250920
DTEND;VALUE=DATE:20250921
DTSTAMP:20260423T145425
CREATED:20250623T160519Z
LAST-MODIFIED:20250623T160525Z
UID:9896-1758326400-1758412799@golfloomis.com
SUMMARY:Young Life Golf Tournament
DESCRIPTION:The course will be closed all day.
URL:https://golfloomis.com/event/young-life-golf-tournament/
END:VEVENT
BEGIN:VEVENT
DTSTART;TZID=America/Los_Angeles:20250908T083000
DTEND;TZID=America/Los_Angeles:20250908T120000
DTSTAMP:20260423T145425
CREATED:20250623T160431Z
LAST-MODIFIED:20250623T160436Z
UID:9893-1757320200-1757332800@golfloomis.com
SUMMARY:Whatcom Seniors
DESCRIPTION:Tee times starting at 8:30AM.  Roughly 50 players
URL:https://golfloomis.com/event/whatcom-seniors-3/
END:VEVENT
BEGIN:VEVENT
DTSTART;VALUE=DATE:20250905
DTEND;VALUE=DATE:20250907
DTSTAMP:20260423T145425
CREATED:20250623T160332Z
LAST-MODIFIED:20250623T160332Z
UID:9890-1757030400-1757203199@golfloomis.com
SUMMARY:Loomis Trail Club Championship
DESCRIPTION:Tee times starting at 12:00PM on Friday the 5th and 7:30AM on Saturday the 6th.
URL:https://golfloomis.com/event/loomis-trail-club-championship-2/
END:VEVENT
BEGIN:VEVENT
DTSTART;TZID=America/Los_Angeles:20250830T110000
DTEND;TZID=America/Los_Angeles:20250830T150000
DTSTAMP:20260423T145425
CREATED:20250331T173521Z
LAST-MODIFIED:20250331T173806Z
UID:9772-1756551600-1756566000@golfloomis.com
SUMMARY:XXIO Demo Day
DESCRIPTION:Come check out all the latest and greatest from XXIO golf clubs!  The Demo Day will be on the driving range from 11am to 3pm
URL:https://golfloomis.com/event/xxio-demo-day-4/
END:VEVENT
BEGIN:VEVENT
DTSTART;VALUE=DATE:20250822
DTEND;VALUE=DATE:20250823
DTSTAMP:20260423T145425
CREATED:20250331T173029Z
LAST-MODIFIED:20250331T173125Z
UID:9764-1755820800-1755907199@golfloomis.com
SUMMARY:Steve Bush Memorial Tournament
DESCRIPTION:The golf course will be closed all day.
URL:https://golfloomis.com/event/steve-bush-memorial-tournament/
END:VEVENT
BEGIN:VEVENT
DTSTART;VALUE=DATE:20250821
DTEND;VALUE=DATE:20250822
DTSTAMP:20260423T145425
CREATED:20250331T173407Z
LAST-MODIFIED:20250331T173407Z
UID:9767-1755734400-1755820799@golfloomis.com
SUMMARY:Boys and Girls Club Tournament
DESCRIPTION:The golf course will be closed all day.
URL:https://golfloomis.com/event/boys-and-girls-club-tournament/
END:VEVENT
BEGIN:VEVENT
DTSTART;TZID=America/Los_Angeles:20250818T093000
DTEND;TZID=America/Los_Angeles:20250818T105000
DTSTAMP:20260423T145425
CREATED:20250331T172952Z
LAST-MODIFIED:20250331T172952Z
UID:9761-1755509400-1755514200@golfloomis.com
SUMMARY:Mount Baker Ladies Group
DESCRIPTION:The ladies will have tee times from 9:30am through 10;50am.
URL:https://golfloomis.com/event/mount-baker-ladies-group/
END:VEVENT
BEGIN:VEVENT
DTSTART;VALUE=DATE:20250801
DTEND;VALUE=DATE:20250802
DTSTAMP:20260423T145425
CREATED:20250331T172836Z
LAST-MODIFIED:20250331T172836Z
UID:9758-1754006400-1754092799@golfloomis.com
SUMMARY:Ferndale Football Tournament
DESCRIPTION:The golf course will be closed the entire day.
URL:https://golfloomis.com/event/ferndale-football-tournament-2/
END:VEVENT
BEGIN:VEVENT
DTSTART;TZID=America/Los_Angeles:20250730T133000
DTEND;TZID=America/Los_Angeles:20250730T155000
DTSTAMP:20260423T145425
CREATED:20250331T172700Z
LAST-MODIFIED:20250331T172703Z
UID:9755-1753882200-1753890600@golfloomis.com
SUMMARY:John Bennett Golf Group
DESCRIPTION:The tournament will be tee times starting from 1:30pm through 3:50pm.
URL:https://golfloomis.com/event/john-bennett-golf-group/
END:VEVENT
BEGIN:VEVENT
DTSTART;VALUE=DATE:20250725
DTEND;VALUE=DATE:20250726
DTSTAMP:20260423T145425
CREATED:20250331T172538Z
LAST-MODIFIED:20250331T172538Z
UID:9752-1753401600-1753487999@golfloomis.com
SUMMARY:Lynden Christian Double Shotgun Tournament
DESCRIPTION:The golf course will be closed the entire day.
URL:https://golfloomis.com/event/lynden-christian-double-shotgun-tournament/
END:VEVENT
BEGIN:VEVENT
DTSTART;TZID=America/Los_Angeles:20250723T100000
DTEND;TZID=America/Los_Angeles:20250723T140000
DTSTAMP:20260423T145425
CREATED:20250331T172457Z
LAST-MODIFIED:20250331T172504Z
UID:9749-1753264800-1753279200@golfloomis.com
SUMMARY:XXIO Demo Day
DESCRIPTION:Come check out all the latest and greatest from XXIO golf clubs!  The Demo Day will be on the driving range from 10am to 2pm
URL:https://golfloomis.com/event/xxio-demo-day-3/
END:VEVENT
BEGIN:VEVENT
DTSTART;VALUE=DATE:20250719
DTEND;VALUE=DATE:20250721
DTSTAMP:20260423T145425
CREATED:20250331T172114Z
LAST-MODIFIED:20250331T172117Z
UID:9746-1752883200-1753055999@golfloomis.com
SUMMARY:Notah Begay III Junior Tournament
DESCRIPTION:The golf course will be closed both Saturday and Sunday for the Junior Event.
URL:https://golfloomis.com/event/notah-begay-iii-junior-tournament/
END:VEVENT
BEGIN:VEVENT
DTSTART;VALUE=DATE:20250712
DTEND;VALUE=DATE:20250713
DTSTAMP:20260423T145425
CREATED:20250331T171946Z
LAST-MODIFIED:20250331T171950Z
UID:9743-1752278400-1752364799@golfloomis.com
SUMMARY:GHAWK Tournament
DESCRIPTION:The golf course will be closed the entire day for the GHAWK Shotgun Tournament.
URL:https://golfloomis.com/event/ghawk-tournament/
END:VEVENT
BEGIN:VEVENT
DTSTART;TZID=America/Los_Angeles:20250621T080000
DTEND;TZID=America/Los_Angeles:20250622T130000
DTSTAMP:20260423T145425
CREATED:20250331T171841Z
LAST-MODIFIED:20250331T171849Z
UID:9740-1750492800-1750597200@golfloomis.com
SUMMARY:Salmon People Tournament
DESCRIPTION:The course will be blocked from 8am to 1pm both Saturday and Sunday.
URL:https://golfloomis.com/event/salmon-people-tournament-4/
END:VEVENT
BEGIN:VEVENT
DTSTART;VALUE=DATE:20250619
DTEND;VALUE=DATE:20250620
DTSTAMP:20260423T145425
CREATED:20250529T165315Z
LAST-MODIFIED:20250529T165315Z
UID:9854-1750291200-1750377599@golfloomis.com
SUMMARY:Heidi Julius Foundation Tournament
DESCRIPTION:Golf course will be closed the entire day.
URL:https://golfloomis.com/event/heidi-julius-foundation-tournament/
END:VEVENT
BEGIN:VEVENT
DTSTART;TZID=America/Los_Angeles:20250618T094000
DTEND;TZID=America/Los_Angeles:20250618T131000
DTSTAMP:20260423T145425
CREATED:20250331T171735Z
LAST-MODIFIED:20250331T171735Z
UID:9737-1750239600-1750252200@golfloomis.com
SUMMARY:Washington Pipe Traders
DESCRIPTION:12:30PM Modified Shotgun Start. \nThe tee sheet will be blocked from 9:40am to 1:10pm\, and again from 2:20pm for the rest of the day.
URL:https://golfloomis.com/event/washington-pipe-traders/
END:VEVENT
BEGIN:VEVENT
DTSTART;VALUE=DATE:20250607
DTEND;VALUE=DATE:20250608
DTSTAMP:20260423T145425
CREATED:20250224T174918Z
LAST-MODIFIED:20250312T191026Z
UID:9687-1749254400-1749340799@golfloomis.com
SUMMARY:Blaine Scholarship Foundation Shotgun Tournament
DESCRIPTION:The golf course will be closed all day for this outside event.  If you would like to play\, please click on the link below to see the flyer for more information or to register! \nhttps://golfloomis.com/wp-content/uploads/2025/02/Blaine-Scholarship-Flyer.pdf \n 
URL:https://golfloomis.com/event/blaine-scholarship-foundation-shotgun-tournament/
END:VEVENT
END:VCALENDAR